BEGIN:VCALENDAR
VERSION:2.0
PRODID:-//St. Michael Parish - ECPv6.6.4.2//NONSGML v1.0//EN
CALSCALE:GREGORIAN
METHOD:PUBLISH
X-WR-CALNAME:St. Michael Parish
X-ORIGINAL-URL:https://stmichaelparish.life
X-WR-CALDESC:Events for St. Michael Parish
REFRESH-INTERVAL;VALUE=DURATION:PT1H
X-Robots-Tag:noindex
X-PUBLISHED-TTL:PT1H
BEGIN:VTIMEZONE
TZID:America/Chicago
BEGIN:DAYLIGHT
TZOFFSETFROM:-0600
TZOFFSETTO:-0500
TZNAME:CDT
DTSTART:20230312T080000
END:DAYLIGHT
BEGIN:STANDARD
TZOFFSETFROM:-0500
TZOFFSETTO:-0600
TZNAME:CST
DTSTART:20231105T070000
END:STANDARD
END:VTIMEZONE
BEGIN:VEVENT
DTSTART;TZID=America/Chicago:20230516T090000
DTEND;TZID=America/Chicago:20230613T100000
DTSTAMP:20260420T044322
CREATED:20230407T144922Z
LAST-MODIFIED:20230515T185123Z
UID:10000135-1684227600-1686650400@stmichaelparish.life
SUMMARY:Virtual Chair Yoga for All
DESCRIPTION:  \n \nTopic: St. Michael’s/Chair Yoga for All -Tuesday’s\, 5/16-6/13 9:00 AM CST\nTime: May 16\, 2023 09:00 AM Central Time (US and Canada)\nEvery week on Tue\, until Jun 13\, 2023\, 5 occurrence(s)\nMay 16\, 2023 09:00 AM\nMay 23\, 2023 09:00 AM\nMay 30\, 2023 09:00 AM\nJun 6\, 2023 09:00 AM\nJun 13\, 2023 09:00 AM\nPlease download and import the following iCalendar (.ics) files to your calendar system.\nWeekly: https://us06web.zoom.us/meeting/tZMvcemuqz8iG9KsjgvbxAVi078KQx9NEONQ/ics?icsToken=98tyKuGvrD0qHNGRuBiBRpwEAI_oc-7wmClHjfp2jxXiFSJLQzX_ZrUaGYNnSfb1 \nJoin Zoom Meeting\nhttps://us06web.zoom.us/j/87260654816?pwd=ejRNc1F6L3dKOGxoVzMvRDlvWHFiZz09 \nMeeting ID: 872 6065 4816\nPasscode: 742822 \nDial by your location\n+1 346 248 7799 US (Houston)\n+1 720 707 2699 US (Denver)\n+1 253 205 0468 US\n+1 253 215 8782 US (Tacoma)\n+1 669 444 9171 US\n+1 719 359 4580 US\n+1 507 473 4847 US\n+1 564 217 2000 US\n+1 646 558 8656 US (New York)\n+1 646 931 3860 US\n+1 689 278 1000 US\n+1 301 715 8592 US (Washington DC)\n+1 305 224 1968 US\n+1 309 205 3325 US\n+1 312 626 6799 US (Chicago)\n+1 360 209 5623 US\n+1 386 347 5053 US\nMeeting ID: 872 6065 4816\nPasscode: 742822\nFind your local number: https://us06web.zoom.us/u/kMjh8A9Na
URL:https://stmichaelparish.life/calendar/chair-yoga/
LOCATION:Zoom\, IN\, United States
ORGANIZER;CN="Geraldine Macenski":MAILTO:g.inspires1@gmail.com
END:VEVENT
END:VCALENDAR