BEGIN:VCALENDAR
VERSION:2.0
PRODID:-//St. Michael Parish - ECPv6.6.4.2//NONSGML v1.0//EN
CALSCALE:GREGORIAN
METHOD:PUBLISH
X-ORIGINAL-URL:https://stmichaelparish.life
X-WR-CALDESC:Events for St. Michael Parish
REFRESH-INTERVAL;VALUE=DURATION:PT1H
X-Robots-Tag:noindex
X-PUBLISHED-TTL:PT1H
BEGIN:VTIMEZONE
TZID:America/Chicago
BEGIN:DAYLIGHT
TZOFFSETFROM:-0600
TZOFFSETTO:-0500
TZNAME:CDT
DTSTART:20210314T080000
END:DAYLIGHT
BEGIN:STANDARD
TZOFFSETFROM:-0500
TZOFFSETTO:-0600
TZNAME:CST
DTSTART:20211107T070000
END:STANDARD
END:VTIMEZONE
BEGIN:VEVENT
DTSTART;TZID=America/Chicago:20210912T110000
DTEND;TZID=America/Chicago:20210912T190000
DTSTAMP:20260423T075255
CREATED:20210625T153438Z
LAST-MODIFIED:20210625T154026Z
UID:10000097-1631444400-1631473200@stmichaelparish.life
SUMMARY:Education Foundation Golf Outing
DESCRIPTION:The St. Michael the Archangel Education Foundation’s Annual Golf Outing is coming back: September 12th @ Scherwood Golf. Registration begins at 11am and start time is 12pm. The cost is $75 per golfer.\nPlease contact Pat Cusick at patrick_cusick@hotmail.com to register or sponsor this amazing event
URL:https://stmichaelparish.life/calendar/education-foundation-golf-outing/
LOCATION:Scherwood Golf\, 600 E Joliet St\, Schererville\, IN\, 46375\, United States
ORGANIZER;CN="Patrick Cusick":MAILTO:patrick_cusick@hotmail.com
END:VEVENT
END:VCALENDAR